BEGIN:VCALENDAR
VERSION:2.0
PRODID:-//wp-events-plugin.com//6.1.4//EN
BEGIN:VEVENT
UID:488@hebammenteam-ludwigshafen.de
DTSTART:20260604T083000Z
DTEND:20260604T103000Z
DTSTAMP:20260204T141804Z
URL:https://hebammenteam-ludwigshafen.de/kurse/beikostseminar-23/
SUMMARY:Beikostseminar
DESCRIPTION:Im Beikostseminar erfahrt Ihr alles über den richtigen Zeitpun
 kt zum Beginn der Beikost und den Einstieg in die Beikost. Ihr bekommt ein
 en Fahrplan bis zum ersten Geburtstag des Kindes\, Rezepte und einen Ausbl
 ick in das zweite Lebensjahr.\n\nDer Kurs dauert ca 2 Stunden\, ein Skript
  kann für 2\,- Euro mitgenommen werden\n\n&nbsp\;
ATTACH;FMTTYPE=image/jpeg:https://hebammenteam-ludwigshafen.de/wp-content/
 uploads/2017/11/himbeeren-pexels-photo-302482.jpeg
END:VEVENT
END:VCALENDAR