BEGIN:VCALENDAR
VERSION:2.0
PRODID:-//wp-events-plugin.com//6.1.4//EN
BEGIN:VEVENT
UID:484@hebammenteam-ludwigshafen.de
DTSTART:20260407T170000Z
DTEND:20260526T181500Z
DTSTAMP:20260120T085008Z
URL:https://hebammenteam-ludwigshafen.de/kurse/fit-step-in-der-schwangersc
 haft-34/
SUMMARY:Fit & Step in der Schwangerschaft
DESCRIPTION:\nFit &amp\; Step ist eine schwangerschaftsbegleitende Maßnahm
 e zur Gesundheitsförderung und Geburtsvorbereitung. Es beinhaltet ein san
 ftes Training bestehend aus Herz-Kreislauftraining auf dem Balance Pad\, s
 chwangerschaftsspezifischer Gymnastik und Muskeltraining\, Atemübungen un
 d Entspannungsübungen.\nVon Beginn an der Schwangerschaft möglich\nDiese
 r Kurs findet 6 mal montags statt\n2 mal dienstags wegen Feiertagen: 7.4. 
 und 26.5.\n\n&nbsp\;\n\nBitte mitbringen: ein großes Handtuch und Geträn
 k
ATTACH;FMTTYPE=image/jpeg:https://hebammenteam-ludwigshafen.de/wp-content/
 uploads/2017/12/9B7A0898-20171103_hebamme-praxis-ludwigshafen.jpg
LOCATION:Praxis Hebammenteam\, Ritterstr. 48\, Ludwigshafen\, 67063\, Deuts
 chland
X-APPLE-STRUCTURED-LOCATION;VALUE=URI;X-ADDRESS=Ritterstr. 48\, Ludwigshafe
 n\, 67063\, Deutschland;X-APPLE-RADIUS=100;X-TITLE=Praxis Hebammenteam:geo
 :0,0
END:VEVENT
END:VCALENDAR